BEGIN:VCALENDAR
VERSION:2.0
PRODID:-//Massachusetts Fallen Heroes - ECPv6.15.20//NONSGML v1.0//EN
CALSCALE:GREGORIAN
METHOD:PUBLISH
X-WR-CALNAME:Massachusetts Fallen Heroes
X-ORIGINAL-URL:https://www.massfallenheroes.org
X-WR-CALDESC:Events for Massachusetts Fallen Heroes
REFRESH-INTERVAL;VALUE=DURATION:PT1H
X-Robots-Tag:noindex
X-PUBLISHED-TTL:PT1H
BEGIN:VTIMEZONE
TZID:America/New_York
BEGIN:DAYLIGHT
TZOFFSETFROM:-0500
TZOFFSETTO:-0400
TZNAME:EDT
DTSTART:20220313T070000
END:DAYLIGHT
BEGIN:STANDARD
TZOFFSETFROM:-0400
TZOFFSETTO:-0500
TZNAME:EST
DTSTART:20221106T060000
END:STANDARD
BEGIN:DAYLIGHT
TZOFFSETFROM:-0500
TZOFFSETTO:-0400
TZNAME:EDT
DTSTART:20230312T070000
END:DAYLIGHT
BEGIN:STANDARD
TZOFFSETFROM:-0400
TZOFFSETTO:-0500
TZNAME:EST
DTSTART:20231105T060000
END:STANDARD
BEGIN:DAYLIGHT
TZOFFSETFROM:-0500
TZOFFSETTO:-0400
TZNAME:EDT
DTSTART:20240310T070000
END:DAYLIGHT
BEGIN:STANDARD
TZOFFSETFROM:-0400
TZOFFSETTO:-0500
TZNAME:EST
DTSTART:20241103T060000
END:STANDARD
END:VTIMEZONE
BEGIN:VEVENT
DTSTART;TZID=America/New_York:20231118T090000
DTEND;TZID=America/New_York:20231118T130000
DTSTAMP:20260419T161153
CREATED:20230620T135811Z
LAST-MODIFIED:20230815T193402Z
UID:13286-1700298000-1700312400@www.massfallenheroes.org
SUMMARY:November Sample Sale
DESCRIPTION:Shop for a cause!\nMass Fallen Heroes holds a monthly sample sale featuring brand name and designer goods to help fund Gold Star and Veterans programs. \nFirst come\, first served! Line up early! No registration required. \n\n 
URL:https://www.massfallenheroes.org/event/november-2023-sample-sale/
LOCATION:MFH Sample Sale Store\, 19 Phillips Lane\, Hanover\, MA\, 02339\, United States
CATEGORIES:Featured,General Public Event
ATTACH;FMTTYPE=image/jpeg:https://www.massfallenheroes.org/wp-content/uploads/2023/05/Sample-Sale-events-featured-image.jpg
END:VEVENT
BEGIN:VEVENT
DTSTART;TZID=America/New_York:20231021T090000
DTEND;TZID=America/New_York:20231021T130000
DTSTAMP:20260419T161153
CREATED:20230605T135723Z
LAST-MODIFIED:20230815T193451Z
UID:13283-1697878800-1697893200@www.massfallenheroes.org
SUMMARY:October Sample Sale
DESCRIPTION:Shop for a cause!\nMass Fallen Heroes holds a monthly sample sale featuring brand name and designer goods to help fund Gold Star and Veterans programs. \nFirst come\, first served! Line up early! No registration required. \n\n 
URL:https://www.massfallenheroes.org/event/october-2023-sample-sale/
LOCATION:MFH Sample Sale Store\, 19 Phillips Lane\, Hanover\, MA\, 02339\, United States
CATEGORIES:Featured,General Public Event
ATTACH;FMTTYPE=image/jpeg:https://www.massfallenheroes.org/wp-content/uploads/2023/05/Sample-Sale-events-featured-image.jpg
END:VEVENT
BEGIN:VEVENT
DTSTART;TZID=America/New_York:20230923T090000
DTEND;TZID=America/New_York:20230923T130000
DTSTAMP:20260419T161153
CREATED:20230520T135355Z
LAST-MODIFIED:20230815T193346Z
UID:13275-1695459600-1695474000@www.massfallenheroes.org
SUMMARY:September Sample Sale
DESCRIPTION:Shop for a cause!\nMass Fallen Heroes holds a monthly sample sale featuring brand name and designer goods to help fund Gold Star and Veterans programs. \nFirst come\, first served! Line up early! No registration required. \n\n 
URL:https://www.massfallenheroes.org/event/september-2023-sample-sale/
LOCATION:MFH Sample Sale Store\, 19 Phillips Lane\, Hanover\, MA\, 02339\, United States
CATEGORIES:Featured,General Public Event
ATTACH;FMTTYPE=image/jpeg:https://www.massfallenheroes.org/wp-content/uploads/2023/05/Sample-Sale-events-featured-image.jpg
END:VEVENT
BEGIN:VEVENT
DTSTART;TZID=America/New_York:20230907T110000
DTEND;TZID=America/New_York:20230907T130000
DTSTAMP:20260419T161153
CREATED:20230518T125526Z
LAST-MODIFIED:20230901T125727Z
UID:13365-1694084400-1694091600@www.massfallenheroes.org
SUMMARY:Flags for the Fallen
DESCRIPTION:Massachusetts Fallen Heroes would like to invite you to join us to plant Flags for the Fallen at our Memorial located in the Seaport at 11:00 am on Thursday\, September 7th\, 2023. We will be planting flags to honor all of our brave servicemen and women who gave their lives for our country between 9/11 and the present day.
URL:https://www.massfallenheroes.org/event/flags-for-the-fallen-sep-2023/
LOCATION:Massachusetts Fallen Heroes Memorial\, 85 Northern Ave\, Boston\, MA\, 02210\, United States
CATEGORIES:Featured,General Public Event
ATTACH;FMTTYPE=image/jpeg:https://www.massfallenheroes.org/wp-content/uploads/2023/09/September-Flags-for-the-Fallen.jpg
END:VEVENT
BEGIN:VEVENT
DTSTART;TZID=America/New_York:20230819T090000
DTEND;TZID=America/New_York:20230819T120000
DTSTAMP:20260419T161153
CREATED:20230508T180135Z
LAST-MODIFIED:20230815T193130Z
UID:12362-1692435600-1692446400@www.massfallenheroes.org
SUMMARY:August Sample Sale
DESCRIPTION:Shop for a cause!\nDate change! Now August 19th\, not the 26th. \nMass Fallen Heroes holds a monthly sample sale featuring brand name and designer goods to help fund Gold Star and Veterans programs. \nFirst come\, first served! Line up early! No registration required. \nNote: Our Summer Sample Sale hours are 9 am – 12 pm\, not the usual 9 am – 1 pm. \n\n 
URL:https://www.massfallenheroes.org/event/august-2023-sample-sale/
LOCATION:MFH Sample Sale Store\, 19 Phillips Lane\, Hanover\, MA\, 02339\, United States
CATEGORIES:Featured,General Public Event
ATTACH;FMTTYPE=image/jpeg:https://www.massfallenheroes.org/wp-content/uploads/2023/05/Sample-Sale-events-featured-image.jpg
END:VEVENT
BEGIN:VEVENT
DTSTART;TZID=America/New_York:20230715T090000
DTEND;TZID=America/New_York:20230715T120000
DTSTAMP:20260419T161153
CREATED:20230408T180005Z
LAST-MODIFIED:20230616T160432Z
UID:12359-1689411600-1689422400@www.massfallenheroes.org
SUMMARY:July Sample Sale
DESCRIPTION:Shop for a cause!\nMass Fallen Heroes holds a monthly sample sale featuring brand name and designer goods to help fund Gold Star and Veterans programs. \nFirst come\, first served! Line up early! No registration required. \nNote: Our Summer Sample Sale hours are 9 am – 12 pm\, not the usual 9 am – 1 pm. \n\n 
URL:https://www.massfallenheroes.org/event/july-2023-sample-sale/
LOCATION:MFH Sample Sale Store\, 19 Phillips Lane\, Hanover\, MA\, 02339\, United States
CATEGORIES:Featured,General Public Event
ATTACH;FMTTYPE=image/jpeg:https://www.massfallenheroes.org/wp-content/uploads/2021/08/blue-tag-sample-sale.jpg
END:VEVENT
BEGIN:VEVENT
DTSTART;TZID=America/New_York:20230624T090000
DTEND;TZID=America/New_York:20230624T120000
DTSTAMP:20260419T161153
CREATED:20221107T154605Z
LAST-MODIFIED:20230616T160450Z
UID:12076-1687597200-1687608000@www.massfallenheroes.org
SUMMARY:June Sample Sale
DESCRIPTION:Shop for a cause!\nMass Fallen Heroes holds a monthly sample sale featuring brand name and designer goods to help fund Gold Star and Veterans programs. \nFirst come\, first served! Line up early! No registration required. \nNote: Our Summer Sample Sale hours are 9 am – 12 pm\, not the usual 9 am – 1 pm. \n\n 
URL:https://www.massfallenheroes.org/event/june-2023-sample-sale/
LOCATION:MFH Sample Sale Store\, 19 Phillips Lane\, Hanover\, MA\, 02339\, United States
CATEGORIES:Featured,General Public Event
ATTACH;FMTTYPE=image/jpeg:https://www.massfallenheroes.org/wp-content/uploads/2021/08/blue-tag-sample-sale.jpg
END:VEVENT
BEGIN:VEVENT
DTSTART;VALUE=DATE:20230529
DTEND;VALUE=DATE:20230530
DTSTAMP:20260419T161153
CREATED:20221021T150722Z
LAST-MODIFIED:20230131T160832Z
UID:12108-1685318400-1685404799@www.massfallenheroes.org
SUMMARY:Gold Star Family & Veteran Cookout
DESCRIPTION:
URL:https://www.massfallenheroes.org/event/gold-star-family-veteran-cookout/
LOCATION:Massachusetts Fallen Heroes Memorial\, 85 Northern Ave\, Boston\, MA\, 02210\, United States
CATEGORIES:Featured,Gold Star Family Event
ATTACH;FMTTYPE=image/jpeg:https://www.massfallenheroes.org/wp-content/uploads/2023/01/veteran-cookout.jpg
END:VEVENT
BEGIN:VEVENT
DTSTART;TZID=America/New_York:20230526T100000
DTEND;TZID=America/New_York:20230526T120000
DTSTAMP:20260419T161153
CREATED:20221020T144349Z
LAST-MODIFIED:20230428T211244Z
UID:12105-1685095200-1685102400@www.massfallenheroes.org
SUMMARY:Memorial Rededication Ceremony
DESCRIPTION:The 8th Annual Rededication of the MFH Memorial will host Gold Star Family members\, elected officials\, distinguished guests\, and the general public in Boston’s Seaport District.  Updated glass panels with the names of the most recent Fallen Heroes will be unveiled by Gold Star Family members.
URL:https://www.massfallenheroes.org/event/memorial-rededication-ceremony-2023/
LOCATION:Massachusetts Fallen Heroes Memorial\, 85 Northern Ave\, Boston\, MA\, 02210\, United States
CATEGORIES:Featured,General Public Event
ATTACH;FMTTYPE=image/jpeg:https://www.massfallenheroes.org/wp-content/uploads/2022/10/family-hug-2022-MFH-Memorial-Rededication.jpg
END:VEVENT
BEGIN:VEVENT
DTSTART;TZID=America/New_York:20230524T170000
DTEND;TZID=America/New_York:20230524T200000
DTSTAMP:20260419T161153
CREATED:20221019T144009Z
LAST-MODIFIED:20230131T194046Z
UID:12096-1684947600-1684958400@www.massfallenheroes.org
SUMMARY:InnoVets Pitch Competition
DESCRIPTION:Registered attendees will get to know the many local Veteran and Gold Star Family companies. Each business will have a booth to showcase their practice\, speak about their products\, and help cultivate future development and growth within the Boston Innovation Community. Each business will pitch their company in a rapid-fire\, two-minute presentation where they will have the chance to address the public and give a compelling pitch for how we can help them continue to grow and thrive. Registered attendees will receive a handful of InnoVets bucks with which they can vote for their favorites.  The most voted for business will leave with some well-earned seed funding for their business.
URL:https://www.massfallenheroes.org/event/innovets-pitch-competition/
LOCATION:Emond Center for Engagement\, 12 Channel St.\, Suite 603\, Boston\, MA\, 02210\, United States
CATEGORIES:Featured,General Public Event
ATTACH;FMTTYPE=image/jpeg:https://www.massfallenheroes.org/wp-content/uploads/2022/10/InnoVets-Pitch-Competition-2022.jpg
END:VEVENT
BEGIN:VEVENT
DTSTART;TZID=America/New_York:20230522T090000
DTEND;TZID=America/New_York:20230522T110000
DTSTAMP:20260419T161153
CREATED:20221018T143131Z
LAST-MODIFIED:20230131T194232Z
UID:12091-1684746000-1684753200@www.massfallenheroes.org
SUMMARY:Flags for the Fallen
DESCRIPTION:Volunteers help kick off Patriot Week by building a sea of flags in honor of each of our Fallen Heroes. Those flags will remain standing through the Rededication Ceremony to commemorate Patriot Week.
URL:https://www.massfallenheroes.org/event/flags-for-the-fallen-2023/
LOCATION:Massachusetts Fallen Heroes Memorial\, 85 Northern Ave\, Boston\, MA\, 02210\, United States
CATEGORIES:Featured,General Public Event
ATTACH;FMTTYPE=image/jpeg:https://www.massfallenheroes.org/wp-content/uploads/2022/10/Flags-for-the-Fallen-2022.jpg
END:VEVENT
BEGIN:VEVENT
DTSTART;TZID=America/New_York:20230519T170000
DTEND;TZID=America/New_York:20230519T210000
DTSTAMP:20260419T161153
CREATED:20221017T142911Z
LAST-MODIFIED:20230131T194259Z
UID:12086-1684515600-1684530000@www.massfallenheroes.org
SUMMARY:Memorial Gala
DESCRIPTION:This 13th annual event will be held at the Encore Boston Harbor Hotel\, built in 2019.  The evening will bring together Gold Star Families\, Veterans\, corporate and civic leaders\, and distinguished guests to raise awareness of the programs and services provided by Massachusetts Fallen Heroes.  The 2023 awards to be presented include the: Captain Jennifer Harris Award\, SFC Jared C. Monti “Medal of Honor Above and Beyond the Call of Duty’ Award\, Navy SEAL Special Warfare Operator Chief Petty Officer Kevin A. Houston Award\, Christine Devlin “Gold Star Family Support” Award\, Army Green Beret Sergeant First Class Daniel H. Petithory Award\, and Sergeant First Class Eric Emond “Wicked Awesome” Award.
URL:https://www.massfallenheroes.org/event/memorial-gala/
LOCATION:Encore Boston Harbor Hotel\, 1 Broadway\, Everett\, MA\, 02149\, United States
CATEGORIES:Featured,General Public Event
ATTACH;FMTTYPE=image/jpeg:https://www.massfallenheroes.org/wp-content/uploads/2022/10/2022-MFH-Memorial-Gala.jpg
END:VEVENT
BEGIN:VEVENT
DTSTART;TZID=America/New_York:20230513T090000
DTEND;TZID=America/New_York:20230513T130000
DTSTAMP:20260419T161153
CREATED:20221016T144518Z
LAST-MODIFIED:20230321T171347Z
UID:12073-1683968400-1683982800@www.massfallenheroes.org
SUMMARY:May Sample Sale
DESCRIPTION:Shop for a cause!\nDate change! Now May 13th\, not the 27th. \nMass Fallen Heroes holds a monthly sample sale featuring brand name and designer goods to help fund Gold Star and Veterans programs. \nFirst come\, first served! Line up early! No registration required. \n\n 
URL:https://www.massfallenheroes.org/event/may-2023-sample-sale/
LOCATION:MFH Sample Sale Store\, 19 Phillips Lane\, Hanover\, MA\, 02339\, United States
CATEGORIES:Featured,General Public Event
ATTACH;FMTTYPE=image/jpeg:https://www.massfallenheroes.org/wp-content/uploads/2021/08/blue-tag-sample-sale.jpg
END:VEVENT
END:VCALENDAR